2.438400000000
0.000000000000
0.000000000000
-2.438400000000
634439.266040218412
4610344.392944119871
