2.438400000000
0.000000000000
0.000000000000
-2.438400000000
562036.708133632080
4553716.284783384800
