2.438400000000
0.000000000000
0.000000000000
-2.438400000000
520068.889874478280
4553409.086658086600
