2.438400
0.000000
0.000000
-2.438400
488388.280733
4608709.814442
