2.438400000000
0.000000000000
0.000000000000
-2.438400000000
509373.654352168150
4692147.471983589200
