2.438400000000
0.000000000000
0.000000000000
-2.438400000000
416339.515894799959
4678800.655517399311
