2.438400000000
0.000000000000
0.000000000000
-2.438400000000
457924.764600457507
4720072.619485578500
