2.438400000000
0.000000000000
0.000000000000
-2.438400000000
437377.971103197080
4720226.379573293962
