2.438400000000
0.000000000000
0.000000000000
-2.438400000000
488807.454519540479
4761593.886256795377
