2.438400000000
0.000000000000
0.000000000000
-2.438400000000
395732.898528573219
4679009.541422041130
