2.438400000000
0.000000000000
0.000000000000
-2.438400000000
396345.596024550555
4720649.056438887490
