2.438400000000
0.000000000000
0.000000000000
-2.438400000000
407173.880900323740
4762144.695096951900
