2.438400000000
0.000000000000
0.000000000000
-2.438400000000
325121.731226193195
4749853.368469936773
