2.438400000000
0.000000000000
0.000000000000
-2.438400000000
315257.748797309469
4764001.691709649749
