2.438400000000
0.000000000000
0.000000000000
-2.438400000000
734666.424023914965
4724433.365912518460
