2.438400000000
0.000000000000
0.000000000000
-2.438400000000
581242.064536138787
4706622.965499076061
