2.438400000000
0.000000000000
0.000000000000
-2.438400000000
652824.586251325789
4721837.548424962908
