2.438400
0
0
-2.438400
499273.856038
4719601.908740
