2.438400000000
0.000000000000
0.000000000000
-2.438400000000
458477.080240394803
4803290.857282206410
