2.438400000000
0.000000000000
0.000000000000
-2.438400000000
387885.261159738177
4831864.102637904696
