2.438400000000
0.000000000000
0.000000000000
-2.438400000000
266430.535999822020
4835126.832132553700
