2.438400000000
0.000000000000
0.000000000000
-2.438400000000
519491.604285672600
4803079.701469647700
