2.438400000000
0.000000000000
0.000000000000
-2.438400000000
529278.610053220410
4844779.395634757400
