2.438400000000
0.000000000000
0.000000000000
-2.438400000000
569395.382281766620
4872911.804800464800
