2.438400000000
0.000000000000
0.000000000000
-2.438400000000
549346.017575693080
4872699.883000805000
