2.438400000000
0.000000000000
0.000000000000
-2.438400000000
519280.522982035590
4872492.194839187000
