2.438400000000
0.000000000000
0.000000000000
-2.438400000000
269477.259493302150
4918276.964311281200
