2.438400000000
0.000000000000
0.000000000000
-2.438400000000
330095.369741563630
4944210.692869724700
