2.438400000000
0.000000000000
0.000000000000
-2.438400000000
280862.376716119300
4959585.889732372000
