2.438400000000
0.000000000000
0.000000000000
-2.438400000000
261535.298494267220
4974174.399452500000
