2.438400000000
0.000000000000
0.000000000000
-2.438400000000
677876.194970269105
4930733.586584984320
