2.438400000000
0.000000000000
0.000000000000
-2.438400000000
667940.005594089510
4930449.912772521370
