2.438400000000
0.000000000000
0.000000000000
-2.438400000000
677115.281994845834
4958502.396483659740
