2.438400
0.000000
0.000000
-2.438400
558817.762095
4900613.899036
